BEGIN:VCALENDAR
VERSION:2.0
PRODID:-//Daughters of Charity - ECPv6.15.20//NONSGML v1.0//EN
CALSCALE:GREGORIAN
METHOD:PUBLISH
X-ORIGINAL-URL:https://daughters-of-charity.com
X-WR-CALDESC:Events for Daughters of Charity
REFRESH-INTERVAL;VALUE=DURATION:PT1H
X-Robots-Tag:noindex
X-PUBLISHED-TTL:PT1H
BEGIN:VTIMEZONE
TZID:America/Chicago
BEGIN:DAYLIGHT
TZOFFSETFROM:-0600
TZOFFSETTO:-0500
TZNAME:CDT
DTSTART:20240310T080000
END:DAYLIGHT
BEGIN:STANDARD
TZOFFSETFROM:-0500
TZOFFSETTO:-0600
TZNAME:CST
DTSTART:20241103T070000
END:STANDARD
BEGIN:DAYLIGHT
TZOFFSETFROM:-0600
TZOFFSETTO:-0500
TZNAME:CDT
DTSTART:20250309T080000
END:DAYLIGHT
BEGIN:STANDARD
TZOFFSETFROM:-0500
TZOFFSETTO:-0600
TZNAME:CST
DTSTART:20251102T070000
END:STANDARD
BEGIN:DAYLIGHT
TZOFFSETFROM:-0600
TZOFFSETTO:-0500
TZNAME:CDT
DTSTART:20260308T080000
END:DAYLIGHT
BEGIN:STANDARD
TZOFFSETFROM:-0500
TZOFFSETTO:-0600
TZNAME:CST
DTSTART:20261101T070000
END:STANDARD
END:VTIMEZONE
BEGIN:VEVENT
DTSTART;VALUE=DATE:20250521
DTEND;VALUE=DATE:20250527
DTSTAMP:20260422T093845
CREATED:20241121T143430Z
LAST-MODIFIED:20250204T143146Z
UID:1410-1747785600-1748303999@daughters-of-charity.com
SUMMARY:Search & Serve | Indiana | May 2025
DESCRIPTION:Spend the week discerning in action with the Daughters of Charity. Live\, pray\, and serve the poor alongside our sisters! \nFor more information\, contact a Vocation Director. \nClick here to register
URL:https://daughters-of-charity.com/event/search-serve-indiana-may-2025/
LOCATION:Evansville\, IN\, 9200 New Harmony Rd\, Evansville\, IN\, 47720\, United States
CATEGORIES:Retreat
ORGANIZER;CN="Sister Liz Sjoberg%2C DC":MAILTO:elizabethann.sjoberg@doc.org
END:VEVENT
BEGIN:VEVENT
DTSTART;VALUE=DATE:20250521
DTEND;VALUE=DATE:20250527
DTSTAMP:20260422T093845
CREATED:20241223T164051Z
LAST-MODIFIED:20250204T143102Z
UID:1423-1747785600-1748303999@daughters-of-charity.com
SUMMARY:Search & Serve | California | May 2025
DESCRIPTION:Spend the week discerning in action with the Daughters of Charity. Live\, pray\, and serve the poor alongside our sisters! \nFor more information\, contact a Vocation Director. \nClick here to register
URL:https://daughters-of-charity.com/event/search-serve-california-may-2025/
LOCATION:Bay Area\, California\, Bay Area\, CA\, United States
CATEGORIES:Retreat
ORGANIZER;CN="Sister Lisa Laguna%2C DC":MAILTO:srllaguna@doc1633.org
END:VEVENT
END:VCALENDAR